BEGIN:VCALENDAR
VERSION:2.0
PRODID:-//hacksw/handcal//NONSGML v1.0//EN
CALSCALE:GREGORIAN
BEGIN:VEVENT
LOCATION:Industriestrasse 2a\, 8207 Schaffhausen
DESCRIPTION:wefox Arena\, Schaffhausen
DTSTART:20210801T121500Z
DTEND:20210801T141500Z
SUMMARY:01.08.21 - FC Vaduz - Neuch&#xE2\;tel Xamax FCS
URL;VALUE=URI:https://xamax.ch/match/01-08-21-fc-vaduz-neuchtel-xamax-fcs/
DTSTAMP:20260420T104410Z
UID:69e6037a747f0
END:VEVENT
END:VCALENDAR
