BEGIN:VCALENDAR
VERSION:2.0
PRODID:-//hacksw/handcal//NONSGML v1.0//EN
CALSCALE:GREGORIAN
BEGIN:VEVENT
LOCATION:Rue Pierre-&#xE0\;-Mazel 10\, 2001 Neuch&#xE2\;tel
DESCRIPTION:Stade de la Maladi&#xE8\;re\, Neuch&#xE2\;tel
DTSTART:20210806T183000Z
DTEND:20210806T203000Z
SUMMARY:06.08.21 - Neuch&#xE2\;tel Xamax FCS - SC Kriens
URL;VALUE=URI:https://xamax.ch/match/06-08-21-neuchtel-xamax-fcs-sc-kriens/
DTSTAMP:20260425T234607Z
UID:69ed523f0dd2d
END:VEVENT
END:VCALENDAR
