BEGIN:VCALENDAR
VERSION:2.0
PRODID:-//hacksw/handcal//NONSGML v1.0//EN
CALSCALE:GREGORIAN
BEGIN:VEVENT
LOCATION:Weststrasse 12\, 3604 Thun
DESCRIPTION:Stockhorn Arena\, Thun
DTSTART:20210925T183000Z
DTEND:20210925T203000Z
SUMMARY:25.09.21 - FC Thun - Neuch&#xE2\;tel Xamax FCS
URL;VALUE=URI:https://xamax.ch/match/25-09-21-fc-thun-neuchtel-xamax-fcs/
DTSTAMP:20260419T173628Z
UID:69e5129cbcbc2
END:VEVENT
END:VCALENDAR
