BEGIN:VCALENDAR
VERSION:2.0
PRODID:-//hacksw/handcal//NONSGML v1.0//EN
CALSCALE:GREGORIAN
BEGIN:VEVENT
LOCATION:Rue Pierre-&#xE0\;-Mazel 10\, 2001 Neuch&#xE2\;tel
DESCRIPTION:Stade de la Maladi&#xE8\;re\, Neuch&#xE2\;tel
DTSTART:20211105T193000Z
DTEND:20211105T213000Z
SUMMARY:05.11.21 - Neuch&#xE2\;tel Xamax FCS - FC Schaffhausen
URL;VALUE=URI:https://xamax.ch/match/05-11-21-neuchtel-xamax-fcs-fc-schaffhausen/
DTSTAMP:20260420T104410Z
UID:69e6037a21229
END:VEVENT
END:VCALENDAR
