BEGIN:VCALENDAR
VERSION:2.0
PRODID:-//hacksw/handcal//NONSGML v1.0//EN
CALSCALE:GREGORIAN
BEGIN:VEVENT
LOCATION:Horwerstrasse 24\, 6010 Kriens
DESCRIPTION:Stadion Kleinfeld\, Kriens
DTSTART:20211120T170000Z
DTEND:20211120T190000Z
SUMMARY:20.11.21 - SC Kriens - Neuch&#xE2\;tel Xamax FCS
URL;VALUE=URI:https://xamax.ch/match/20-11-21-sc-kriens-neuchtel-xamax-fcs/
DTSTAMP:20260425T234608Z
UID:69ed524051759
END:VEVENT
END:VCALENDAR
