BEGIN:VCALENDAR
VERSION:2.0
PRODID:-//hacksw/handcal//NONSGML v1.0//EN
CALSCALE:GREGORIAN
BEGIN:VEVENT
LOCATION:Rue Pierre-&#xE0\;-Mazel 10\, 2001 Neuch&#xE2\;tel
DESCRIPTION:Stade de la Maladi&#xE8\;re\, Neuch&#xE2\;tel
DTSTART:20211210T193000Z
DTEND:20211210T213000Z
SUMMARY:10.12.21 - Neuch&#xE2\;tel Xamax FCS - FC Thun
URL;VALUE=URI:https://xamax.ch/match/10-12-21-neuchtel-xamax-fcs-fc-thun/
DTSTAMP:20260419T173629Z
UID:69e5129dd7750
END:VEVENT
END:VCALENDAR
