BEGIN:VCALENDAR
VERSION:2.0
PRODID:-//hacksw/handcal//NONSGML v1.0//EN
CALSCALE:GREGORIAN
BEGIN:VEVENT
LOCATION:Horwerstrasse 24\, 6010 Kriens
DESCRIPTION:Stadion Kleinfeld\, Kriens
DTSTART:20200919T153000Z
DTEND:20200919T173000Z
SUMMARY:19.09.20 - SC Kriens - Neuch&#xE2\;tel Xamax FCS
URL;VALUE=URI:https://xamax.ch/match/19-09-20-sc-kriens-neuchtel-xamax-fcs/
DTSTAMP:20260426T015436Z
UID:69ed705c7a5a7
END:VEVENT
END:VCALENDAR
