BEGIN:VCALENDAR
VERSION:2.0
PRODID:-//hacksw/handcal//NONSGML v1.0//EN
CALSCALE:GREGORIAN
BEGIN:VEVENT
LOCATION:Weststrasse 12\, 3604 Thun
DESCRIPTION:Stockhorn Arena\, Thun
DTSTART:20201002T180000Z
DTEND:20201002T200000Z
SUMMARY:02.10.20 - FC Thun - Neuch&#xE2\;tel Xamax FCS
URL;VALUE=URI:https://xamax.ch/match/02-10-20-fc-thun-neuchtel-xamax-fcs/
DTSTAMP:20260420T081840Z
UID:69e5e160d072b
END:VEVENT
END:VCALENDAR
