BEGIN:VCALENDAR
VERSION:2.0
PRODID:-//hacksw/handcal//NONSGML v1.0//EN
CALSCALE:GREGORIAN
BEGIN:VEVENT
LOCATION:Rue Pierre-à-Mazel 10\, 2001 Neuchâtel
DESCRIPTION:Stade de la Maladière\, Neuchâtel
DTSTART:20201020T170000Z
DTEND:20201020T190000Z
SUMMARY:20.10.20 - Neuch&#xE2\;tel Xamax FCS - FC Wil 1900
URL;VALUE=URI:https://xamax.ch/match/20-10-20-neuchtel-xamax-fcs-fc-wil-1900/
DTSTAMP:20260420T011642Z
UID:69e57e7a99be6
END:VEVENT
END:VCALENDAR
