BEGIN:VCALENDAR
VERSION:2.0
PRODID:-//hacksw/handcal//NONSGML v1.0//EN
CALSCALE:GREGORIAN
BEGIN:VEVENT
LOCATION:Rue Pierre-à-Mazel 10\, 2001 Neuchâtel
DESCRIPTION:Stade de la Maladière\, Neuchâtel
DTSTART:20201215T190000Z
DTEND:20201215T210000Z
SUMMARY:15.12.20 - Neuch&#xE2\;tel Xamax FCS - FC Thun
URL;VALUE=URI:https://xamax.ch/match/15-12-20-neuchtel-xamax-fcs-fc-thun/
DTSTAMP:20260422T091517Z
UID:69e891a57337c
END:VEVENT
END:VCALENDAR
