BEGIN:VCALENDAR
VERSION:2.0
PRODID:-//hacksw/handcal//NONSGML v1.0//EN
CALSCALE:GREGORIAN
BEGIN:VEVENT
LOCATION:Rue Pierre-à-Mazel 10\, 2001 Neuchâtel
DESCRIPTION:Stade de la Maladière\, Neuchâtel
DTSTART:20210122T180000Z
DTEND:20210122T200000Z
SUMMARY:22.01.21 - Neuch&#xE2\;tel Xamax FCS - SC Kriens
URL;VALUE=URI:https://xamax.ch/match/22-01-21-neuchtel-xamax-fcs-sc-kriens/
DTSTAMP:20260426T015438Z
UID:69ed705e00c16
END:VEVENT
END:VCALENDAR
