BEGIN:VCALENDAR
VERSION:2.0
PRODID:-//hacksw/handcal//NONSGML v1.0//EN
CALSCALE:GREGORIAN
BEGIN:VEVENT
LOCATION:Feldstrasse 40\, 9500 Wil
DESCRIPTION:Sportpark Bergholz\, Wil
DTSTART:20210202T190000Z
DTEND:20210202T210000Z
SUMMARY:02.02.21 - FC Wil 1900 - Neuch&#xE2\;tel Xamax FCS
URL;VALUE=URI:https://xamax.ch/match/02-02-21-fc-wil-1900-neuchtel-xamax-fcs/
DTSTAMP:20260420T005749Z
UID:69e57a0d43748
END:VEVENT
END:VCALENDAR
