BEGIN:VCALENDAR
VERSION:2.0
PRODID:-//hacksw/handcal//NONSGML v1.0//EN
CALSCALE:GREGORIAN
BEGIN:VEVENT
LOCATION:Rue Pierre-à-Mazel 10\, 2001 Neuchâtel
DESCRIPTION:Stade de la Maladière\, Neuchâtel
DTSTART:20180521T140000Z
DTEND:20180521T160000Z
SUMMARY:21.05.18 - Neuchâtel Xamax FCS - FC Wil 1900
URL;VALUE=URI:https://xamax.ch/match/21-05-18-neuchatel-xamax-fcs-fc-wil-1900/
DTSTAMP:20260420T011642Z
UID:69e57e7a320a7
END:VEVENT
END:VCALENDAR
