BEGIN:VCALENDAR
VERSION:2.0
PRODID:-//hacksw/handcal//NONSGML v1.0//EN
CALSCALE:GREGORIAN
BEGIN:VEVENT
LOCATION:Horwerstrasse 24\, 6010 Kriens
DESCRIPTION:Stadion Kleinfeld\, Kriens
DTSTART:20070516T174500Z
DTEND:20070516T194500Z
SUMMARY:16.05.07 - SC Kriens - Neuchâtel Xamax FCS
URL;VALUE=URI:https://xamax.ch/match/16-05-07-sc-kriens-neuchatel-xamax-fcs/
DTSTAMP:20260426T015438Z
UID:69ed705e0238d
END:VEVENT
END:VCALENDAR
