BEGIN:VCALENDAR
VERSION:2.0
PRODID:-//hacksw/handcal//NONSGML v1.0//EN
CALSCALE:GREGORIAN
BEGIN:VEVENT
LOCATION:Feldstrasse 40\, 9500 Wil
DESCRIPTION:IGP Arena\, Wil
DTSTART:20180409T180000Z
DTEND:20180409T200000Z
SUMMARY:09.04.18 - FC Wil 1900 - Neuchâtel Xamax FCS
URL;VALUE=URI:https://xamax.ch/match/09-04-18-fc-wil-1900-neuchatel-xamax-fcs/
DTSTAMP:20260420T011642Z
UID:69e57e7a38bb1
END:VEVENT
END:VCALENDAR
