BEGIN:VCALENDAR
VERSION:2.0
PRODID:-//hacksw/handcal//NONSGML v1.0//EN
CALSCALE:GREGORIAN
BEGIN:VEVENT
LOCATION:\,  
DESCRIPTION:Charrière\, La Chaux-de-Fonds
DTSTART:20061126T133000Z
DTEND:20061126T153000Z
SUMMARY:26.11.06 - Neuchâtel Xamax FCS - SC Kriens
URL;VALUE=URI:https://xamax.ch/match/26-11-06-neuchatel-xamax-fcs-sc-kriens/
DTSTAMP:20260426T015436Z
UID:69ed705c96479
END:VEVENT
END:VCALENDAR
