BEGIN:VCALENDAR
VERSION:2.0
PRODID:-//hacksw/handcal//NONSGML v1.0//EN
CALSCALE:GREGORIAN
BEGIN:VEVENT
LOCATION:Rue Pierre-à-Mazel 10\, 2001 Neuchâtel
DESCRIPTION:Stade de la Maladière\, Neuchâtel
DTSTART:20171125T180000Z
DTEND:20171125T200000Z
SUMMARY:25.11.17 - Neuchâtel Xamax FCS - FC Wil 1900
URL;VALUE=URI:https://xamax.ch/match/25-11-17-neuchatel-xamax-fcs-fc-wil-1900/
DTSTAMP:20260420T011642Z
UID:69e57e7a09216
END:VEVENT
END:VCALENDAR
