BEGIN:VCALENDAR
VERSION:2.0
PRODID:-//hacksw/handcal//NONSGML v1.0//EN
CALSCALE:GREGORIAN
BEGIN:VEVENT
LOCATION:Feldstrasse 40\, 9500 Wil
DESCRIPTION:IGP Arena\, Wil
DTSTART:20170911T180000Z
DTEND:20170911T200000Z
SUMMARY:11.09.17 - FC Wil 1900 - Neuchâtel Xamax FCS
URL;VALUE=URI:https://xamax.ch/match/11-09-17-fc-wil-1900-neuchatel-xamax-fcs/
DTSTAMP:20260420T031242Z
UID:69e599aa4d028
END:VEVENT
END:VCALENDAR
