BEGIN:VCALENDAR
VERSION:2.0
PRODID:-//hacksw/handcal//NONSGML v1.0//EN
CALSCALE:GREGORIAN
BEGIN:VEVENT
LOCATION:Rue Pierre-à-Mazel 10\, 2001 Neuchâtel
DESCRIPTION:Stade de la Maladière\, Neuchâtel
DTSTART:20170417T130000Z
DTEND:20170417T150000Z
SUMMARY:17.04.17 - Neuchâtel Xamax FCS - FC Chiasso
URL;VALUE=URI:https://xamax.ch/match/17-04-17-neuchatel-xamax-fcs-fc-chiasso/
DTSTAMP:20260419T182809Z
UID:69e51eb9c1e67
END:VEVENT
END:VCALENDAR
