BEGIN:VCALENDAR
VERSION:2.0
PRODID:-//hacksw/handcal//NONSGML v1.0//EN
CALSCALE:GREGORIAN
BEGIN:VEVENT
LOCATION:Feldstrasse 40\, 9500 Wil
DESCRIPTION:IGP Arena\, Wil
DTSTART:20170506T154500Z
DTEND:20170506T174500Z
SUMMARY:06.05.17 - FC Wil 1900 - Neuchâtel Xamax FCS
URL;VALUE=URI:https://xamax.ch/match/06-05-17-fc-wil-1900-neuchatel-xamax-fcs/
DTSTAMP:20260420T065821Z
UID:69e5ce8da6901
END:VEVENT
END:VCALENDAR
