BEGIN:VCALENDAR
VERSION:2.0
PRODID:-//hacksw/handcal//NONSGML v1.0//EN
CALSCALE:GREGORIAN
BEGIN:VEVENT
LOCATION:Badenerstrasse 500\, 8048 Zürich
DESCRIPTION:Stadion Letzigrund\, Zürich
DTSTART:20110925T140000Z
DTEND:20110925T160000Z
SUMMARY:25.09.11 - Grasshopper Club Zürich - Neuchâtel Xamax FCS
URL;VALUE=URI:https://xamax.ch/match/25-09-11-grasshopper-club-zurich-neuchatel-xamax-fcs/
DTSTAMP:20260421T230321Z
UID:69e8023948b41
END:VEVENT
END:VCALENDAR
