BEGIN:VCALENDAR
VERSION:2.0
PRODID:-//hacksw/handcal//NONSGML v1.0//EN
CALSCALE:GREGORIAN
BEGIN:VEVENT
LOCATION:Rue Pierre-à-Mazel 10\, 2001 Neuchâtel
DESCRIPTION:Stade de la Maladière\, Neuchâtel
DTSTART:20070726T174500Z
DTEND:20070726T194500Z
SUMMARY:26.07.07 - Neuchâtel Xamax FCS - FC Thun
URL;VALUE=URI:https://xamax.ch/match/26-07-07-neuchatel-xamax-fcs-fc-thun/
DTSTAMP:20260419T182809Z
UID:69e51eb978dd9
END:VEVENT
END:VCALENDAR
