BEGIN:VCALENDAR
VERSION:2.0
PRODID:-//hacksw/handcal//NONSGML v1.0//EN
CALSCALE:GREGORIAN
BEGIN:VEVENT
LOCATION:Routes des Echutes 38\, 1950 Sion
DESCRIPTION:Stade de Tourbillon\, Sion
DTSTART:20081213T164500Z
DTEND:20081213T184500Z
SUMMARY:13.12.08 - FC Sion - Neuchâtel Xamax FCS
URL;VALUE=URI:https://xamax.ch/match/13-12-08-fc-sion-neuchatel-xamax-fcs/
DTSTAMP:20260421T183540Z
UID:69e7c37c5e5e3
END:VEVENT
END:VCALENDAR
