BEGIN:VCALENDAR
VERSION:2.0
PRODID:-//hacksw/handcal//NONSGML v1.0//EN
CALSCALE:GREGORIAN
BEGIN:VEVENT
LOCATION:Rue Pierre-à-Mazel 10\, 2001 Neuchâtel
DESCRIPTION:Stade de la Maladière\, Neuchâtel
DTSTART:20080913T154500Z
DTEND:20080913T174500Z
SUMMARY:13.09.08 - Neuchâtel Xamax FCS - FC Sion
URL;VALUE=URI:https://xamax.ch/match/13-09-08-neuchatel-xamax-fcs-fc-sion/
DTSTAMP:20260421T183540Z
UID:69e7c37c97519
END:VEVENT
END:VCALENDAR
