BEGIN:VCALENDAR
VERSION:2.0
PRODID:-//hacksw/handcal//NONSGML v1.0//EN
CALSCALE:GREGORIAN
BEGIN:VEVENT
LOCATION:\,  
DESCRIPTION:
DTSTART:20030903T173000Z
DTEND:20030903T193000Z
SUMMARY:03.09.03 - Neuchâtel Xamax FCS - Servette FC
URL;VALUE=URI:https://xamax.ch/match/03-09-03-neuchatel-xamax-fcs-servette-fc/
DTSTAMP:20260419T180911Z
UID:69e51a47f05ab
END:VEVENT
END:VCALENDAR
