BEGIN:VCALENDAR
VERSION:2.0
PRODID:-//hacksw/handcal//NONSGML v1.0//EN
CALSCALE:GREGORIAN
BEGIN:VEVENT
LOCATION:Feldstrasse 40\, 9500 Wil
DESCRIPTION:IGP Arena\, Wil
DTSTART:20161210T164500Z
DTEND:20161210T184500Z
SUMMARY:19.02.11 - Neuchâtel Xamax FCS - Grasshopper Club Zürich
URL;VALUE=URI:https://xamax.ch/match/19-02-11-neuchatel-xamax-fcs-grasshopper-club-zurich/
DTSTAMP:20260420T011640Z
UID:69e57e78955f6
END:VEVENT
END:VCALENDAR
