BEGIN:VCALENDAR
VERSION:2.0
PRODID:-//hacksw/handcal//NONSGML v1.0//EN
CALSCALE:GREGORIAN
BEGIN:VEVENT
LOCATION:Feldstrasse 40\, 9500 Wil
DESCRIPTION:IGP Arena\, Wil
DTSTART:20161210T164500Z
DTEND:20161210T184500Z
SUMMARY:17.07.10 - Grasshopper Club Zürich - Neuchâtel Xamax FCS
URL;VALUE=URI:https://xamax.ch/match/17-07-10-grasshopper-club-zurich-neuchatel-xamax-fcs/
DTSTAMP:20260420T011640Z
UID:69e57e789404a
END:VEVENT
END:VCALENDAR
