BEGIN:VCALENDAR
VERSION:2.0
PRODID:-//hacksw/handcal//NONSGML v1.0//EN
CALSCALE:GREGORIAN
BEGIN:VEVENT
LOCATION:Rue Pierre-à-Mazel 10\, 2001 Neuchâtel
DESCRIPTION:Stade de la Maladière\, Neuchâtel
DTSTART:20160807T130000Z
DTEND:20160807T150000Z
SUMMARY:07.08.16 - Neuchâtel Xamax FCS - FC Wil 1900
URL;VALUE=URI:https://xamax.ch/match/07-08-16-neuchatel-xamax-fcs-fc-wil-1900/
DTSTAMP:20260420T031242Z
UID:69e599aa5a548
END:VEVENT
END:VCALENDAR
