BEGIN:VCALENDAR
VERSION:2.0
PRODID:-//hacksw/handcal//NONSGML v1.0//EN
CALSCALE:GREGORIAN
BEGIN:VEVENT
LOCATION:Rue Pierre-à-Mazel 10\, 2001 Neuchâtel
DESCRIPTION:Stade de la Maladière\, Neuchâtel
DTSTART:20160425T174500Z
DTEND:20160425T194500Z
SUMMARY:25.04.16 - Neuchâtel Xamax FCS - FC Wil 1900
URL;VALUE=URI:https://xamax.ch/match/25-04-16-neuchatel-xamax-fcs-fc-wil-1900/
DTSTAMP:20260420T031241Z
UID:69e599a9687f6
END:VEVENT
END:VCALENDAR
