BEGIN:VCALENDAR
VERSION:2.0
PRODID:-//hacksw/handcal//NONSGML v1.0//EN
CALSCALE:GREGORIAN
BEGIN:VEVENT
LOCATION:Feldstrasse 40\, 9500 Wil
DESCRIPTION:IGP Arena\, Wil
DTSTART:20160312T164500Z
DTEND:20160312T184500Z
SUMMARY:12.03.16 - FC Wil 1900 - Neuchâtel Xamax FCS
URL;VALUE=URI:https://xamax.ch/match/12-03-16-fc-wil-1900-neuchatel-xamax-fcs/
DTSTAMP:20260420T031242Z
UID:69e599aa52407
END:VEVENT
END:VCALENDAR
