BEGIN:VCALENDAR
VERSION:2.0
PRODID:-//hacksw/handcal//NONSGML v1.0//EN
CALSCALE:GREGORIAN
BEGIN:VEVENT
LOCATION:Rue Pierre-à-Mazel 10\, 2001 Neuchâtel
DESCRIPTION:Stade de la Maladière\, Neuchâtel
DTSTART:20150802T130000Z
DTEND:20150802T150000Z
SUMMARY:21.11.15 - Neuchâtel Xamax FCS - FC Aarau
URL;VALUE=URI:https://xamax.ch/match/21-11-15-neuchatel-xamax-fcs-fc-aarau/
DTSTAMP:20260420T065819Z
UID:69e5ce8b9788d
END:VEVENT
END:VCALENDAR
