BEGIN:VCALENDAR
VERSION:2.0
PRODID:-//hacksw/handcal//NONSGML v1.0//EN
CALSCALE:GREGORIAN
BEGIN:VEVENT
LOCATION:Feldstrasse 40\, 9500 Wil
DESCRIPTION:IGP Arena\, Wil
DTSTART:20151017T154500Z
DTEND:20151017T174500Z
SUMMARY:17.10.15 - FC Wil 1900 - Neuchâtel Xamax FCS
URL;VALUE=URI:https://xamax.ch/match/17-10-15-fc-wil-1900-neuchatel-xamax-fcs/
DTSTAMP:20260420T031241Z
UID:69e599a934de9
END:VEVENT
END:VCALENDAR
