BEGIN:VCALENDAR
VERSION:2.0
PRODID:-//hacksw/handcal//NONSGML v1.0//EN
CALSCALE:GREGORIAN
BEGIN:VEVENT
LOCATION:Rue Pierre-à-Mazel 10\, 2001 Neuchâtel
DESCRIPTION:Stade de la Maladière\, Neuchâtel
DTSTART:20150802T130000Z
DTEND:20150802T150000Z
SUMMARY:02.08.15 - Neuchâtel Xamax FCS - FC Wil 1900
URL;VALUE=URI:https://xamax.ch/match/02-08-15-neuchatel-xamax-fcs-fc-wil-1900/
DTSTAMP:20260420T031240Z
UID:69e599a8da9f5
END:VEVENT
END:VCALENDAR
