BEGIN:VCALENDAR
VERSION:2.0
PRODID:-//hacksw/handcal//NONSGML v1.0//EN
CALSCALE:GREGORIAN
BEGIN:VEVENT
LOCATION:Rue Pierre-à-Mazel 10\, 2001 Neuchâtel
DESCRIPTION:Stade de la Maladière\, Neuchâtel
DTSTART:20100410T154500Z
DTEND:20100410T174500Z
SUMMARY:10.04.10 - Neuchâtel Xamax FCS - Grasshopper Club Zürich
URL;VALUE=URI:https://xamax.ch/match/10-04-10-neuchatel-xamax-fcs-grasshopper-club-zurich/
DTSTAMP:20260420T085848Z
UID:69e5eac8a49ba
END:VEVENT
END:VCALENDAR
