BEGIN:VCALENDAR
VERSION:2.0
PRODID:-//hacksw/handcal//NONSGML v1.0//EN
CALSCALE:GREGORIAN
BEGIN:VEVENT
LOCATION:Badenerstrasse 500\, 8048 Zürich
DESCRIPTION:Stadion Letzigrund\, Zürich
DTSTART:20100325T184500Z
DTEND:20100325T204500Z
SUMMARY:25.03.10 - Grasshopper Club Zürich - Neuchâtel Xamax FCS
URL;VALUE=URI:https://xamax.ch/match/25-03-10-grasshopper-club-zurich-neuchatel-xamax-fcs/
DTSTAMP:20260419T180909Z
UID:69e51a45ece02
END:VEVENT
END:VCALENDAR
