BEGIN:VCALENDAR
VERSION:2.0
PRODID:-//hacksw/handcal//NONSGML v1.0//EN
CALSCALE:GREGORIAN
BEGIN:VEVENT
LOCATION:Rue Pierre-à-Mazel 10\, 2001 Neuchâtel
DESCRIPTION:Stade de la Maladière\, Neuchâtel
DTSTART:20091128T164500Z
DTEND:20091128T184500Z
SUMMARY:28.11.09 - Neuchâtel Xamax FCS - Grasshopper Club Zürich
URL;VALUE=URI:https://xamax.ch/match/28-11-09-neuchatel-xamax-fcs-grasshopper-club-zurich/
DTSTAMP:20260419T153300Z
UID:69e4f5acf088e
END:VEVENT
END:VCALENDAR
