BEGIN:VCALENDAR
VERSION:2.0
PRODID:-//hacksw/handcal//NONSGML v1.0//EN
CALSCALE:GREGORIAN
BEGIN:VEVENT
LOCATION:Papiermühlestrasse 71\, 3014 Bern
DESCRIPTION:Stade de Suisse\, Bern
DTSTART:20051211T151500Z
DTEND:20051211T171500Z
SUMMARY:23.04.06 - Neuchâtel Xamax FCS - FC Schaffhausen
URL;VALUE=URI:https://xamax.ch/match/23-04-06-neuchatel-xamax-fcs-fc-schaffhausen-2/
DTSTAMP:20260419T182806Z
UID:69e51eb69b90c
END:VEVENT
END:VCALENDAR
