BEGIN:VCALENDAR
VERSION:2.0
PRODID:-//hacksw/handcal//NONSGML v1.0//EN
CALSCALE:GREGORIAN
BEGIN:VEVENT
LOCATION:Papiermühlestrasse 71\, 3014 Bern
DESCRIPTION:Stade de Suisse\, Bern
DTSTART:20071101T184500Z
DTEND:20071101T204500Z
SUMMARY:01.11.07 - BSC Young Boys - Neuchâtel Xamax FCS
URL;VALUE=URI:https://xamax.ch/match/01-11-07-bsc-young-boys-neuchatel-xamax-fcs/
DTSTAMP:20260421T183539Z
UID:69e7c37b74e2e
END:VEVENT
END:VCALENDAR
