BEGIN:VCALENDAR
VERSION:2.0
PRODID:-//hacksw/handcal//NONSGML v1.0//EN
CALSCALE:GREGORIAN
BEGIN:VEVENT
LOCATION:Rue Pierre-à-Mazel 10\, 2001 Neuchâtel
DESCRIPTION:Stade de la Maladière\, Neuchâtel
DTSTART:20070811T154500Z
DTEND:20070811T174500Z
SUMMARY:11.08.07 - Neuchâtel Xamax FCS - BSC Young Boys
URL;VALUE=URI:https://xamax.ch/match/11-08-07-neuchatel-xamax-fcs-bsc-young-boys/
DTSTAMP:20260419T202058Z
UID:69e5392a973a7
END:VEVENT
END:VCALENDAR
