BEGIN:VCALENDAR
VERSION:2.0
PRODID:-//hacksw/handcal//NONSGML v1.0//EN
CALSCALE:GREGORIAN
BEGIN:VEVENT
LOCATION:\,  
DESCRIPTION:
DTSTART:20050518T173000Z
DTEND:20050518T193000Z
SUMMARY:18.05.05 - FC St.Gallen 1879 - Neuchâtel Xamax FCS
URL;VALUE=URI:https://xamax.ch/match/18-05-05-fc-st-gallen-1879-neuchatel-xamax-fcs/
DTSTAMP:20260419T151629Z
UID:69e4f1cdbaa5e
END:VEVENT
END:VCALENDAR
