BEGIN:VCALENDAR
VERSION:2.0
PRODID:-//hacksw/handcal//NONSGML v1.0//EN
CALSCALE:GREGORIAN
BEGIN:VEVENT
LOCATION:\,  
DESCRIPTION:
DTSTART:20050427T164500Z
DTEND:20050427T184500Z
SUMMARY:27.04.05 - Neuchâtel Xamax FCS - FC St.Gallen 1879
URL;VALUE=URI:https://xamax.ch/match/27-04-05-neuchatel-xamax-fcs-fc-st-gallen-1879/
DTSTAMP:20260419T175345Z
UID:69e516a94126e
END:VEVENT
END:VCALENDAR
