BEGIN:VCALENDAR
VERSION:2.0
PRODID:-//hacksw/handcal//NONSGML v1.0//EN
CALSCALE:GREGORIAN
BEGIN:VEVENT
LOCATION:\,  
DESCRIPTION:
DTSTART:20041031T133000Z
DTEND:20041031T153000Z
SUMMARY:31.10.04 - Neuchâtel Xamax FCS - FC St.Gallen 1879
URL;VALUE=URI:https://xamax.ch/match/31-10-04-neuchatel-xamax-fcs-fc-st-gallen-1879/
DTSTAMP:20260419T180910Z
UID:69e51a469f03f
END:VEVENT
END:VCALENDAR
