BEGIN:VCALENDAR
VERSION:2.0
PRODID:-//hacksw/handcal//NONSGML v1.0//EN
CALSCALE:GREGORIAN
BEGIN:VEVENT
LOCATION:\,  
DESCRIPTION:
DTSTART:20040807T173000Z
DTEND:20040807T193000Z
SUMMARY:07.08.04 - FC St.Gallen 1879 - Neuchâtel Xamax FCS
URL;VALUE=URI:https://xamax.ch/match/07-08-04-fc-st-gallen-1879-neuchatel-xamax-fcs/
DTSTAMP:20260419T153302Z
UID:69e4f5aece73e
END:VEVENT
END:VCALENDAR
