BEGIN:VCALENDAR
VERSION:2.0
PRODID:-//hacksw/handcal//NONSGML v1.0//EN
CALSCALE:GREGORIAN
BEGIN:VEVENT
LOCATION:\,  
DESCRIPTION:
DTSTART:20040501T173000Z
DTEND:20040501T193000Z
SUMMARY:01.05.04 - Neuchâtel Xamax FCS - FC St.Gallen 1879
URL;VALUE=URI:https://xamax.ch/match/01-05-04-neuchatel-xamax-fcs-fc-st-gallen-1879/
DTSTAMP:20260419T153302Z
UID:69e4f5ae8fa14
END:VEVENT
END:VCALENDAR
