BEGIN:VCALENDAR
VERSION:2.0
PRODID:-//hacksw/handcal//NONSGML v1.0//EN
CALSCALE:GREGORIAN
BEGIN:VEVENT
LOCATION:\,  
DESCRIPTION:
DTSTART:20060319T123000Z
DTEND:20060319T143000Z
SUMMARY:19.03.06 - BSC Young Boys - Neuchâtel Xamax FCS
URL;VALUE=URI:https://xamax.ch/match/19-03-06-bsc-young-boys-neuchatel-xamax-fcs-2/
DTSTAMP:20260421T115737Z
UID:69e7663128683
END:VEVENT
END:VCALENDAR
