BEGIN:VCALENDAR
VERSION:2.0
PRODID:-//hacksw/handcal//NONSGML v1.0//EN
CALSCALE:GREGORIAN
BEGIN:VEVENT
LOCATION:Papiermühlestrasse 71\, 3014 Bern
DESCRIPTION:Stade de Suisse\, Bern
DTSTART:20050925T140000Z
DTEND:20050925T160000Z
SUMMARY:25.09.05 - BSC Young Boys - Neuchâtel Xamax FCS
URL;VALUE=URI:https://xamax.ch/match/25-09-05-bsc-young-boys-neuchatel-xamax-fcs/
DTSTAMP:20260419T180907Z
UID:69e51a4367cc9
END:VEVENT
END:VCALENDAR
