BEGIN:VCALENDAR
VERSION:2.0
PRODID:-//hacksw/handcal//NONSGML v1.0//EN
CALSCALE:GREGORIAN
BEGIN:VEVENT
LOCATION:\,  
DESCRIPTION:Charrière\, La Chaux-de-Fonds
DTSTART:20050713T173000Z
DTEND:20050713T193000Z
SUMMARY:13.07.05 - Neuchâtel Xamax FCS - BSC Young Boys
URL;VALUE=URI:https://xamax.ch/match/13-07-05-neuchatel-xamax-fcs-bsc-young-boys/
DTSTAMP:20260419T180909Z
UID:69e51a455c0ab
END:VEVENT
END:VCALENDAR
