BEGIN:VCALENDAR
VERSION:2.0
PRODID:-//hacksw/handcal//NONSGML v1.0//EN
CALSCALE:GREGORIAN
BEGIN:VEVENT
LOCATION:\,  
DESCRIPTION:
DTSTART:20060420T164500Z
DTEND:20060420T184500Z
SUMMARY:20.04.06 - Neuchâtel Xamax FCS - BSC Young Boys
URL;VALUE=URI:https://xamax.ch/match/20-04-06-neuchatel-xamax-fcs-bsc-young-boys-2/
DTSTAMP:20260421T183540Z
UID:69e7c37c80db1
END:VEVENT
END:VCALENDAR
