BEGIN:VCALENDAR
VERSION:2.0
PRODID:-//hacksw/handcal//NONSGML v1.0//EN
CALSCALE:GREGORIAN
BEGIN:VEVENT
LOCATION:\,  
DESCRIPTION:
DTSTART:20050417T123000Z
DTEND:20050417T143000Z
SUMMARY:17.04.05 - FC Schaffhausen - Neuchâtel Xamax FCS
URL;VALUE=URI:https://xamax.ch/match/17-04-05-fc-schaffhausen-neuchatel-xamax-fcs/
DTSTAMP:20260421T193011Z
UID:69e7d0435a820
END:VEVENT
END:VCALENDAR
