BEGIN:VCALENDAR
VERSION:2.0
PRODID:-//hacksw/handcal//NONSGML v1.0//EN
CALSCALE:GREGORIAN
BEGIN:VEVENT
LOCATION:\,  
DESCRIPTION:
DTSTART:20060312T150000Z
DTEND:20060312T170000Z
SUMMARY:12.03.06 - FC Schaffhausen - Neuchâtel Xamax FCS
URL;VALUE=URI:https://xamax.ch/match/12-03-06-fc-schaffhausen-neuchatel-xamax-fcs-2/
DTSTAMP:20260419T140441Z
UID:69e4e0f9194de
END:VEVENT
END:VCALENDAR
